BEGIN:VCALENDAR
VERSION:2.0
PRODID:icalendar-ruby
CALSCALE:GREGORIAN
METHOD:PUBLISH
BEGIN:VEVENT
DTSTAMP:20260420T010931Z
UID:5c0a907e-7d6e-4814-a898-43844cc5917f
DTSTART:20250808T180000
DTEND:20250809T013000
DESCRIPTION:<p> </p><p><strong>Things We Love</strong> is for the music lo
 vers.</p><p>For the ones who show up for the craft\, the energy\, the conn
 ection.</p><p>It’s a live music series built around powerful performance
 s\, beautiful lighting\, and that electric feeling you only get from a gre
 at show. Every event is intimate.</p><p>Every lineup is curated. No gimmic
 ks — just real artists\, real instruments\, memories that last forever!<
 /p><p>If you love live music\, this is your space.</p><p><br></p><p>This i
 s <strong>Things We Love.</strong></p><p><strong>Date: </strong>Friday 8 A
 ugust 2025</p><p><strong>Time: </strong>18h00 - 01h30</p><p><strong>Venue:
  </strong>Sognage</p><p><strong>Address:</strong> 304 Tungsten Road\, Stry
 dompark\, Randburg 2169</p><p><strong>Line up: </strong>Manana\, Wandile M
 bambeni\, Zadok\, Yolophonik.</p><p><br></p><p><strong>Live acts\, DJs\, <
 /strong>immersive lighting\, and a one-stop space to enjoy drinks\, good c
 ompany\, and live music that moves you.</p><p>See you there!</p><p><br></p
 ><p><br></p><p><br></p>
LOCATION:304 Tungsten Road\, Strydompark\, Johannesburg\, 2169
SUMMARY:Things We Love - Manana
URL;VALUE=URI:https://breakout.howler.co.za/welovemanana
END:VEVENT
END:VCALENDAR
